BEGIN:VCALENDAR
VERSION:2.0
PRODID:-//Lotta Wennäkoski - ECPv5.1.2//NONSGML v1.0//EN
CALSCALE:GREGORIAN
METHOD:PUBLISH
X-WR-CALNAME:Lotta Wennäkoski
X-ORIGINAL-URL:https://lottawennakoski.com
X-WR-CALDESC:Events for Lotta Wennäkoski
BEGIN:VTIMEZONE
TZID:Europe/Helsinki
BEGIN:DAYLIGHT
TZOFFSETFROM:+0200
TZOFFSETTO:+0300
TZNAME:EEST
DTSTART:20260329T010000
END:DAYLIGHT
BEGIN:STANDARD
TZOFFSETFROM:+0300
TZOFFSETTO:+0200
TZNAME:EET
DTSTART:20261025T010000
END:STANDARD
END:VTIMEZONE
BEGIN:VEVENT
DTSTART;TZID=Europe/Helsinki:20260509T080000
DTEND;TZID=Europe/Helsinki:20260509T170000
DTSTAMP:20260419T133020
CREATED:20260323T091514Z
LAST-MODIFIED:20260323T091514Z
UID:6552-1778313600-1778346000@lottawennakoski.com
SUMMARY:Valo joka
DESCRIPTION:Helsinki Music Centre (Paavo Hall)  –  Kaisa Ranta\, soprano and Annemarie Åström\, violin \n
URL:https://lottawennakoski.com/event/valo-joka-3/
END:VEVENT
BEGIN:VEVENT
DTSTART;TZID=Europe/Helsinki:20260514T080000
DTEND;TZID=Europe/Helsinki:20260514T170000
DTSTAMP:20260419T133020
CREATED:20250516T112417Z
LAST-MODIFIED:20250516T112424Z
UID:6403-1778745600-1778778000@lottawennakoski.com
SUMMARY:Ele
DESCRIPTION:Tapiolasali\, Espoo  –  Lauri Sallinen\, clarinet and Tapiola Sinfonietta\, cond. Izabele Jankauzkaite \n
URL:https://lottawennakoski.com/event/ele-3/
END:VEVENT
BEGIN:VEVENT
DTSTART;TZID=Europe/Helsinki:20260523T080000
DTEND;TZID=Europe/Helsinki:20260523T170000
DTSTAMP:20260419T133020
CREATED:20260323T091939Z
LAST-MODIFIED:20260323T091939Z
UID:6554-1779523200-1779555600@lottawennakoski.com
SUMMARY:Päärme
DESCRIPTION:Festival de l’Orangerie Sonore\, Paris  –  Paddington Trio \n
URL:https://lottawennakoski.com/event/paarme-22/
END:VEVENT
BEGIN:VEVENT
DTSTART;TZID=Europe/Helsinki:20260528T080000
DTEND;TZID=Europe/Helsinki:20260528T170000
DTSTAMP:20260419T133020
CREATED:20260413T091937Z
LAST-MODIFIED:20260413T091937Z
UID:6558-1779955200-1779987600@lottawennakoski.com
SUMMARY:Sic
DESCRIPTION:Balder Hall\, Helsinki  –   Minna Pensola and Antti Tikkanen\, violins \n
URL:https://lottawennakoski.com/event/sic-4/
END:VEVENT
END:VCALENDAR