BEGIN:VCALENDAR
VERSION:2.0
PRODID:-//Lotta Wennäkoski - ECPv5.1.2//NONSGML v1.0//EN
CALSCALE:GREGORIAN
METHOD:PUBLISH
X-WR-CALNAME:Lotta Wennäkoski
X-ORIGINAL-URL:https://lottawennakoski.com
X-WR-CALDESC:Events for Lotta Wennäkoski
BEGIN:VTIMEZONE
TZID:Europe/Helsinki
BEGIN:DAYLIGHT
TZOFFSETFROM:+0200
TZOFFSETTO:+0300
TZNAME:EEST
DTSTART:20260329T010000
END:DAYLIGHT
BEGIN:STANDARD
TZOFFSETFROM:+0300
TZOFFSETTO:+0200
TZNAME:EET
DTSTART:20261025T010000
END:STANDARD
END:VTIMEZONE
BEGIN:VEVENT
DTSTART;TZID=Europe/Helsinki:20260313T080000
DTEND;TZID=Europe/Helsinki:20260313T170000
DTSTAMP:20260418T055649
CREATED:20260101T132716Z
LAST-MODIFIED:20260125T161620Z
UID:6503-1773388800-1773421200@lottawennakoski.com
SUMMARY:Blended Notes (world premiere)
DESCRIPTION:Madetoja Hall\, Oulu Music Centre  –  Soma Ensemble and Sitkovetsky Trio \n
URL:https://lottawennakoski.com/event/blended-notes/
END:VEVENT
BEGIN:VEVENT
DTSTART;TZID=Europe/Helsinki:20260314T080000
DTEND;TZID=Europe/Helsinki:20260314T170000
DTSTAMP:20260418T055649
CREATED:20260110T134627Z
LAST-MODIFIED:20260110T134627Z
UID:6509-1773475200-1773507600@lottawennakoski.com
SUMMARY:Vorüber\, ach\, vorüber! (from Pige)
DESCRIPTION:DR Koncerthuset\, Copenhagen  –  Danish String Quartet \n
URL:https://lottawennakoski.com/event/voruber-ach-voruber-from-pige-6/
END:VEVENT
BEGIN:VEVENT
DTSTART;TZID=Europe/Helsinki:20260325T080000
DTEND;TZID=Europe/Helsinki:20260325T170000
DTSTAMP:20260418T055649
CREATED:20250909T123255Z
LAST-MODIFIED:20260125T162139Z
UID:6429-1774425600-1774458000@lottawennakoski.com
SUMMARY:Zelo (world premiere)
DESCRIPTION:Royal Festival Hall\, London  –   London Philharmonic Orchestra\, cond. Robin Ticciati \n
URL:https://lottawennakoski.com/event/zelo-world-premiere/
END:VEVENT
BEGIN:VEVENT
DTSTART;TZID=Europe/Helsinki:20260327T080000
DTEND;TZID=Europe/Helsinki:20260327T170000
DTSTAMP:20260418T055649
CREATED:20251221T095756Z
LAST-MODIFIED:20251221T095756Z
UID:6496-1774598400-1774630800@lottawennakoski.com
SUMMARY:Päärme
DESCRIPTION:Jubilee Hall\, Suffolk\, UK  –  Paddington Trio \n
URL:https://lottawennakoski.com/event/paarme-20/
END:VEVENT
END:VCALENDAR