BEGIN:VCALENDAR
VERSION:2.0
PRODID:-//Lotta Wennäkoski - ECPv5.1.2//NONSGML v1.0//EN
CALSCALE:GREGORIAN
METHOD:PUBLISH
X-WR-CALNAME:Lotta Wennäkoski
X-ORIGINAL-URL:https://lottawennakoski.com
X-WR-CALDESC:Events for Lotta Wennäkoski
BEGIN:VTIMEZONE
TZID:Europe/Helsinki
BEGIN:DAYLIGHT
TZOFFSETFROM:+0200
TZOFFSETTO:+0300
TZNAME:EEST
DTSTART:20250330T010000
END:DAYLIGHT
BEGIN:STANDARD
TZOFFSETFROM:+0300
TZOFFSETTO:+0200
TZNAME:EET
DTSTART:20251026T010000
END:STANDARD
END:VTIMEZONE
BEGIN:VEVENT
DTSTART;TZID=Europe/Helsinki:20251106T080000
DTEND;TZID=Europe/Helsinki:20251106T170000
DTSTAMP:20260419T190811
CREATED:20250506T140017Z
LAST-MODIFIED:20250929T073646Z
UID:6389-1762416000-1762448400@lottawennakoski.com
SUMMARY:Alin (world premiere)
DESCRIPTION:Helsinki Music Centre  –  Adrian Rigopulos\, contrabass and musicians from Helsinki Philharmonic Orchestra \n
URL:https://lottawennakoski.com/event/alin-world-premiere/
END:VEVENT
BEGIN:VEVENT
DTSTART;TZID=Europe/Helsinki:20251110T080000
DTEND;TZID=Europe/Helsinki:20251110T170000
DTSTAMP:20260419T190811
CREATED:20250515T084721Z
LAST-MODIFIED:20250610T070155Z
UID:6399-1762761600-1762794000@lottawennakoski.com
SUMMARY:Signes (world premiere)
DESCRIPTION:Music Centre Helsinki  –  Anssi Karttunen\, violoncello and Olivier Latry\, organ \n
URL:https://lottawennakoski.com/event/new-work-world-premiere-3/
END:VEVENT
BEGIN:VEVENT
DTSTART;TZID=Europe/Helsinki:20251110T080000
DTEND;TZID=Europe/Helsinki:20251110T170000
DTSTAMP:20260419T190811
CREATED:20250919T062426Z
LAST-MODIFIED:20250919T062426Z
UID:6449-1762761600-1762794000@lottawennakoski.com
SUMMARY:Flickereth
DESCRIPTION:St Mary’s Church\, Luton\, England   –   Kamus String Quartet \n
URL:https://lottawennakoski.com/event/flickereth-6/
END:VEVENT
BEGIN:VEVENT
DTSTART;TZID=Europe/Helsinki:20251115T080000
DTEND;TZID=Europe/Helsinki:20251115T170000
DTSTAMP:20260419T190811
CREATED:20250916T081842Z
LAST-MODIFIED:20250916T081842Z
UID:6439-1763193600-1763226000@lottawennakoski.com
SUMMARY:Päärme
DESCRIPTION:Avanti! Hall\, Cable Factory Helsinki –  Emil Holmström\, piano and other Avanti! musicians \n
URL:https://lottawennakoski.com/event/paarme-19/
END:VEVENT
BEGIN:VEVENT
DTSTART;TZID=Europe/Helsinki:20251121T080000
DTEND;TZID=Europe/Helsinki:20251121T170000
DTSTAMP:20260419T190811
CREATED:20250414T123723Z
LAST-MODIFIED:20250516T112141Z
UID:6374-1763712000-1763744400@lottawennakoski.com
SUMMARY:Suka
DESCRIPTION:Kaupungintalon sisäpiha\, Lahti   –  musicians of Sinfonia Lahti \n
URL:https://lottawennakoski.com/event/suka-2/
END:VEVENT
BEGIN:VEVENT
DTSTART;TZID=Europe/Helsinki:20251122T080000
DTEND;TZID=Europe/Helsinki:20251122T170000
DTSTAMP:20260419T190811
CREATED:20250920T124658Z
LAST-MODIFIED:20250920T124658Z
UID:6451-1763798400-1763830800@lottawennakoski.com
SUMMARY:Valossa
DESCRIPTION:\nHuddersfield Contemporary Music Festival  –  The Carice Singers\, cond. George Parris \n\n
URL:https://lottawennakoski.com/event/valossa-7/
END:VEVENT
BEGIN:VEVENT
DTSTART;TZID=Europe/Helsinki:20251127T080000
DTEND;TZID=Europe/Helsinki:20251127T170000
DTSTAMP:20260419T190811
CREATED:20251026T074631Z
LAST-MODIFIED:20251026T074631Z
UID:6472-1764230400-1764262800@lottawennakoski.com
SUMMARY:Ciphers
DESCRIPTION:Royal Academy of Music\, London  –  students of the Royal Academy of Music \n
URL:https://lottawennakoski.com/event/ciphers-4/
END:VEVENT
BEGIN:VEVENT
DTSTART;TZID=Europe/Helsinki:20251127T080000
DTEND;TZID=Europe/Helsinki:20251127T170000
DTSTAMP:20260419T190811
CREATED:20251026T074754Z
LAST-MODIFIED:20251026T075619Z
UID:6474-1764230400-1764262800@lottawennakoski.com
SUMMARY:Glimt\, skymt
DESCRIPTION:Royal Academy of Music\, London  –  students of the Royal Academy of Music \n
URL:https://lottawennakoski.com/event/glimt-skymt-9/
END:VEVENT
BEGIN:VEVENT
DTSTART;TZID=Europe/Helsinki:20251127T080000
DTEND;TZID=Europe/Helsinki:20251127T170000
DTSTAMP:20260419T190811
CREATED:20251026T074907Z
LAST-MODIFIED:20251026T075644Z
UID:6476-1764230400-1764262800@lottawennakoski.com
SUMMARY:Segla
DESCRIPTION:Royal Academy of Music\, London  –  students of the Royal Academy of Music \n
URL:https://lottawennakoski.com/event/segla-2/
END:VEVENT
BEGIN:VEVENT
DTSTART;TZID=Europe/Helsinki:20251127T080000
DTEND;TZID=Europe/Helsinki:20251127T170000
DTSTAMP:20260419T190811
CREATED:20251026T075304Z
LAST-MODIFIED:20251026T075304Z
UID:6478-1764230400-1764262800@lottawennakoski.com
SUMMARY:Hele
DESCRIPTION:Royal Academy of Music\, London – Academy Manson Ensemble\, cond. Timothy Weiss \n
URL:https://lottawennakoski.com/event/hele-9/
END:VEVENT
BEGIN:VEVENT
DTSTART;TZID=Europe/Helsinki:20251127T080000
DTEND;TZID=Europe/Helsinki:20251127T170000
DTSTAMP:20260419T190811
CREATED:20251026T075457Z
LAST-MODIFIED:20251026T075457Z
UID:6480-1764230400-1764262800@lottawennakoski.com
SUMMARY:Nosztalgiaim
DESCRIPTION:Royal Academy of Music\, London – Academy Manson Ensemble\, cond. Timothy Weiss \n
URL:https://lottawennakoski.com/event/nosztalgiaim-7/
END:VEVENT
END:VCALENDAR