BEGIN:VCALENDAR
VERSION:2.0
PRODID:-//Lotta Wennäkoski - ECPv5.1.2//NONSGML v1.0//EN
CALSCALE:GREGORIAN
METHOD:PUBLISH
X-WR-CALNAME:Lotta Wennäkoski
X-ORIGINAL-URL:https://lottawennakoski.com
X-WR-CALDESC:Events for Lotta Wennäkoski
BEGIN:VTIMEZONE
TZID:Europe/Helsinki
BEGIN:DAYLIGHT
TZOFFSETFROM:+0200
TZOFFSETTO:+0300
TZNAME:EEST
DTSTART:20250330T010000
END:DAYLIGHT
BEGIN:STANDARD
TZOFFSETFROM:+0300
TZOFFSETTO:+0200
TZNAME:EET
DTSTART:20251026T010000
END:STANDARD
END:VTIMEZONE
BEGIN:VEVENT
DTSTART;TZID=Europe/Helsinki:20251005T080000
DTEND;TZID=Europe/Helsinki:20251005T170000
DTSTAMP:20260419T073213
CREATED:20250916T082031Z
LAST-MODIFIED:20250916T082045Z
UID:6441-1759651200-1759683600@lottawennakoski.com
SUMMARY:Soiva ilo
DESCRIPTION:Toholammin Kulttuurisali  –  Annami Hylkilä\, soprano and Säde Erkkilä\, piano \n
URL:https://lottawennakoski.com/event/soiva-ilo-2/
END:VEVENT
BEGIN:VEVENT
DTSTART;TZID=Europe/Helsinki:20251014T080000
DTEND;TZID=Europe/Helsinki:20251014T170000
DTSTAMP:20260419T073213
CREATED:20250324T070548Z
LAST-MODIFIED:20250929T073758Z
UID:6345-1760428800-1760461200@lottawennakoski.com
SUMMARY:Zeng
DESCRIPTION:Recital Hall\, Concertgebouw\, Amsterdam  –  Lucie Horsch\, recorders\, Agostinho Sequeira\, percussion and RCO musicians \n
URL:https://lottawennakoski.com/event/zeng-8/
END:VEVENT
BEGIN:VEVENT
DTSTART;TZID=Europe/Helsinki:20251015T080000
DTEND;TZID=Europe/Helsinki:20251015T170000
DTSTAMP:20260419T073213
CREATED:20250324T070815Z
LAST-MODIFIED:20251014T051818Z
UID:6347-1760515200-1760547600@lottawennakoski.com
SUMMARY:Vents et lyres (world premiere)
DESCRIPTION:Concertgebouw\, Amsterdam  –  Lucie Horsch\, recorders and the Royal Concertgebouw Orchestra\, cond. Maxim Emelyanychev \n
URL:https://lottawennakoski.com/event/new-work-world-premiere/
END:VEVENT
BEGIN:VEVENT
DTSTART;TZID=Europe/Helsinki:20251017T080000
DTEND;TZID=Europe/Helsinki:20251017T170000
DTSTAMP:20260419T073213
CREATED:20250324T071046Z
LAST-MODIFIED:20251014T051916Z
UID:6349-1760688000-1760720400@lottawennakoski.com
SUMMARY:Vents et lyres (world premiere)
DESCRIPTION:Concertgebouw\, Amsterdam  –  Lucie Horsch\, recorders and the Royal Concertgebouw Orchestra\, cond. Maxim Emelyanychev \n
URL:https://lottawennakoski.com/event/new-work-world-premiere-2/
END:VEVENT
BEGIN:VEVENT
DTSTART;TZID=Europe/Helsinki:20251018T080000
DTEND;TZID=Europe/Helsinki:20251018T170000
DTSTAMP:20260419T073213
CREATED:20250909T125525Z
LAST-MODIFIED:20250909T125525Z
UID:6435-1760774400-1760806800@lottawennakoski.com
SUMMARY:Vents et lyres
DESCRIPTION:Parkstad Limburg Theaters\, Heerlen\, The Netherlands  –  Lucie Horsch\, recorders and the Royal Concertgebouw Orchestra\, cond. Maxim Emelyanychev \n
URL:https://lottawennakoski.com/event/vents-et-lyres/
END:VEVENT
END:VCALENDAR