BEGIN:VCALENDAR
VERSION:2.0
PRODID:-//Lotta Wennäkoski - ECPv5.1.2//NONSGML v1.0//EN
CALSCALE:GREGORIAN
METHOD:PUBLISH
X-WR-CALNAME:Lotta Wennäkoski
X-ORIGINAL-URL:https://lottawennakoski.com
X-WR-CALDESC:Events for Lotta Wennäkoski
BEGIN:VTIMEZONE
TZID:Europe/Helsinki
BEGIN:DAYLIGHT
TZOFFSETFROM:+0200
TZOFFSETTO:+0300
TZNAME:EEST
DTSTART:20250330T010000
END:DAYLIGHT
BEGIN:STANDARD
TZOFFSETFROM:+0300
TZOFFSETTO:+0200
TZNAME:EET
DTSTART:20251026T010000
END:STANDARD
END:VTIMEZONE
BEGIN:VEVENT
DTSTART;TZID=Europe/Helsinki:20250404T080000
DTEND;TZID=Europe/Helsinki:20250404T170000
DTSTAMP:20260418T050132
CREATED:20241114T070340Z
LAST-MODIFIED:20241114T070340Z
UID:6262-1743753600-1743786000@lottawennakoski.com
SUMMARY:Hava
DESCRIPTION:Adelaide Town Hall\, Australia –  Adelaide Symphony Orchestra\, cond. Elena Schwarz \n
URL:https://lottawennakoski.com/event/hava-25/
END:VEVENT
BEGIN:VEVENT
DTSTART;TZID=Europe/Helsinki:20250405T080000
DTEND;TZID=Europe/Helsinki:20250405T170000
DTSTAMP:20260418T050132
CREATED:20250301T094718Z
LAST-MODIFIED:20250301T094718Z
UID:6324-1743840000-1743872400@lottawennakoski.com
SUMMARY:Hava
DESCRIPTION:Adelaide Town Hall\, Australia –  Adelaide Symphony Orchestra\, cond. Elena Schwarz \n
URL:https://lottawennakoski.com/event/hava-30/
END:VEVENT
BEGIN:VEVENT
DTSTART;TZID=Europe/Helsinki:20250411T080000
DTEND;TZID=Europe/Helsinki:20250411T170000
DTSTAMP:20260418T050132
CREATED:20250228T085221Z
LAST-MODIFIED:20250228T085221Z
UID:6320-1744358400-1744390800@lottawennakoski.com
SUMMARY:Nosztalgiaim
DESCRIPTION:Hetta Music Days  –  Sinfonietta of Arctic Philharmony. cond. Tim Weiss \n
URL:https://lottawennakoski.com/event/nosztalgiaim-6/
END:VEVENT
BEGIN:VEVENT
DTSTART;TZID=Europe/Helsinki:20250417T080000
DTEND;TZID=Europe/Helsinki:20250417T170000
DTSTAMP:20260418T050132
CREATED:20250410T082656Z
LAST-MODIFIED:20250410T082656Z
UID:6370-1744876800-1744909200@lottawennakoski.com
SUMMARY:Verdigris
DESCRIPTION:Escola Superior de Música de Lisboa –  Jovem Orquestra Portuguesa (National Youth Orchestra of Portugal)\, cond. Pedro Carneiro \n
URL:https://lottawennakoski.com/event/verdigris-28/
END:VEVENT
END:VCALENDAR