BEGIN:VCALENDAR
VERSION:2.0
PRODID:-//Lotta Wennäkoski - ECPv5.1.2//NONSGML v1.0//EN
CALSCALE:GREGORIAN
METHOD:PUBLISH
X-WR-CALNAME:Lotta Wennäkoski
X-ORIGINAL-URL:https://lottawennakoski.com
X-WR-CALDESC:Events for Lotta Wennäkoski
BEGIN:VTIMEZONE
TZID:Europe/Helsinki
BEGIN:DAYLIGHT
TZOFFSETFROM:+0200
TZOFFSETTO:+0300
TZNAME:EEST
DTSTART:20250330T010000
END:DAYLIGHT
BEGIN:STANDARD
TZOFFSETFROM:+0300
TZOFFSETTO:+0200
TZNAME:EET
DTSTART:20251026T010000
END:STANDARD
END:VTIMEZONE
BEGIN:VEVENT
DTSTART;TZID=Europe/Helsinki:20250226T080000
DTEND;TZID=Europe/Helsinki:20250226T170000
DTSTAMP:20260420T064828
CREATED:20241209T074602Z
LAST-MODIFIED:20241210T093141Z
UID:6273-1740556800-1740589200@lottawennakoski.com
SUMMARY:Ele (Swedish premiere)
DESCRIPTION:Växjö Konserthus\, Sweden  –   Lauri Sallinen\, clarinet\, Musica Vitae and Jönköpings Sinfonietta\, cond. Johannes Gustavsson \n
URL:https://lottawennakoski.com/event/ele-2/
END:VEVENT
BEGIN:VEVENT
DTSTART;TZID=Europe/Helsinki:20250309T080000
DTEND;TZID=Europe/Helsinki:20250309T170000
DTSTAMP:20260420T064828
CREATED:20250228T084947Z
LAST-MODIFIED:20250228T084947Z
UID:6318-1741507200-1741539600@lottawennakoski.com
SUMMARY:Ciphers
DESCRIPTION:Recital Hall\, Concertgebouw\, Amsterdam –  Petra van der Heide\, harp\, Kersten McCall\, flute and Michael Gieler\, viola \n
URL:https://lottawennakoski.com/event/ciphers-3/
END:VEVENT
BEGIN:VEVENT
DTSTART;TZID=Europe/Helsinki:20250313T080000
DTEND;TZID=Europe/Helsinki:20250313T170000
DTSTAMP:20260420T064828
CREATED:20241210T052036Z
LAST-MODIFIED:20241210T052036Z
UID:6275-1741852800-1741885200@lottawennakoski.com
SUMMARY:Hava
DESCRIPTION:Malmö Konserthus  –   Malmö SymfoniOrkester\, cond. Ruth Reinhardt \n
URL:https://lottawennakoski.com/event/hava-26/
END:VEVENT
BEGIN:VEVENT
DTSTART;TZID=Europe/Helsinki:20250317T080000
DTEND;TZID=Europe/Helsinki:20250317T170000
DTSTAMP:20260420T064828
CREATED:20250305T090505Z
LAST-MODIFIED:20250305T090505Z
UID:6331-1742198400-1742230800@lottawennakoski.com
SUMMARY:Päärme
DESCRIPTION:G-livelab\, Helsinki  –  Paddington Trio \n
URL:https://lottawennakoski.com/event/paarme-17/
END:VEVENT
BEGIN:VEVENT
DTSTART;TZID=Europe/Helsinki:20250320T080000
DTEND;TZID=Europe/Helsinki:20250320T170000
DTSTAMP:20260420T064828
CREATED:20250210T124205Z
LAST-MODIFIED:20250210T124205Z
UID:6305-1742457600-1742490000@lottawennakoski.com
SUMMARY:Verdigris
DESCRIPTION:Měšťanská beseda\, Pilsen  –  Plzeňská filharmonie (Pilsen Philharmonic)\, cond. Erkki Lasonpalo \n
URL:https://lottawennakoski.com/event/verdigris-27/
END:VEVENT
BEGIN:VEVENT
DTSTART;TZID=Europe/Helsinki:20250321T080000
DTEND;TZID=Europe/Helsinki:20250321T170000
DTSTAMP:20260420T064828
CREATED:20250303T115724Z
LAST-MODIFIED:20250321T093123Z
UID:6329-1742544000-1742576400@lottawennakoski.com
SUMMARY:Myös sydämeni (world premiere)
DESCRIPTION:Organo Hall\, Helsinki Music Center  –   Susanne Kujala\, organ \n
URL:https://lottawennakoski.com/event/myos-sydameni-world-premier/
END:VEVENT
BEGIN:VEVENT
DTSTART;TZID=Europe/Helsinki:20250404T080000
DTEND;TZID=Europe/Helsinki:20250404T170000
DTSTAMP:20260420T064828
CREATED:20241114T070340Z
LAST-MODIFIED:20241114T070340Z
UID:6262-1743753600-1743786000@lottawennakoski.com
SUMMARY:Hava
DESCRIPTION:Adelaide Town Hall\, Australia –  Adelaide Symphony Orchestra\, cond. Elena Schwarz \n
URL:https://lottawennakoski.com/event/hava-25/
END:VEVENT
BEGIN:VEVENT
DTSTART;TZID=Europe/Helsinki:20250405T080000
DTEND;TZID=Europe/Helsinki:20250405T170000
DTSTAMP:20260420T064828
CREATED:20250301T094718Z
LAST-MODIFIED:20250301T094718Z
UID:6324-1743840000-1743872400@lottawennakoski.com
SUMMARY:Hava
DESCRIPTION:Adelaide Town Hall\, Australia –  Adelaide Symphony Orchestra\, cond. Elena Schwarz \n
URL:https://lottawennakoski.com/event/hava-30/
END:VEVENT
END:VCALENDAR