BEGIN:VCALENDAR
VERSION:2.0
PRODID:-//Lotta Wennäkoski - ECPv5.1.2//NONSGML v1.0//EN
CALSCALE:GREGORIAN
METHOD:PUBLISH
X-WR-CALNAME:Lotta Wennäkoski
X-ORIGINAL-URL:https://lottawennakoski.com
X-WR-CALDESC:Events for Lotta Wennäkoski
BEGIN:VTIMEZONE
TZID:Europe/Helsinki
BEGIN:DAYLIGHT
TZOFFSETFROM:+0200
TZOFFSETTO:+0300
TZNAME:EEST
DTSTART:20250330T010000
END:DAYLIGHT
BEGIN:STANDARD
TZOFFSETFROM:+0300
TZOFFSETTO:+0200
TZNAME:EET
DTSTART:20251026T010000
END:STANDARD
END:VTIMEZONE
BEGIN:VEVENT
DTSTART;TZID=Europe/Helsinki:20250109T080000
DTEND;TZID=Europe/Helsinki:20250109T170000
DTSTAMP:20260420T093727
CREATED:20250102T152054Z
LAST-MODIFIED:20250102T152054Z
UID:6286-1736409600-1736442000@lottawennakoski.com
SUMMARY:Sinne
DESCRIPTION:Frontside Festival\, Gothenburg  –  Cecilia Zilliacus\, violin\, Ylvali Zilliacus-McTigert\, viola and Kati Raitinen\, cello \n
URL:https://lottawennakoski.com/event/sinne-4/
END:VEVENT
BEGIN:VEVENT
DTSTART;TZID=Europe/Helsinki:20250117T080000
DTEND;TZID=Europe/Helsinki:20250117T170000
DTSTAMP:20260420T093727
CREATED:20240920T080146Z
LAST-MODIFIED:20240920T080146Z
UID:6236-1737100800-1737133200@lottawennakoski.com
SUMMARY:Päärme
DESCRIPTION:Wigmore Hall\, London  –  Paddington Trio \n
URL:https://lottawennakoski.com/event/paarme-16/
END:VEVENT
BEGIN:VEVENT
DTSTART;TZID=Europe/Helsinki:20250201T080000
DTEND;TZID=Europe/Helsinki:20250201T170000
DTSTAMP:20260420T093727
CREATED:20250126T141929Z
LAST-MODIFIED:20250126T141929Z
UID:6302-1738396800-1738429200@lottawennakoski.com
SUMMARY:Ilmakehästä
DESCRIPTION:Singen\, Germany  –  Kersten McCall\, flute and Madarys Morgan\, piano \n
URL:https://lottawennakoski.com/event/ilmakehasta-8/
END:VEVENT
END:VCALENDAR