BEGIN:VCALENDAR
VERSION:2.0
PRODID:-//Lotta Wennäkoski - ECPv5.1.2//NONSGML v1.0//EN
CALSCALE:GREGORIAN
METHOD:PUBLISH
X-WR-CALNAME:Lotta Wennäkoski
X-ORIGINAL-URL:https://lottawennakoski.com
X-WR-CALDESC:Events for Lotta Wennäkoski
BEGIN:VTIMEZONE
TZID:Europe/Helsinki
BEGIN:DAYLIGHT
TZOFFSETFROM:+0200
TZOFFSETTO:+0300
TZNAME:EEST
DTSTART:20240331T010000
END:DAYLIGHT
BEGIN:STANDARD
TZOFFSETFROM:+0300
TZOFFSETTO:+0200
TZNAME:EET
DTSTART:20241027T010000
END:STANDARD
END:VTIMEZONE
BEGIN:VEVENT
DTSTART;TZID=Europe/Helsinki:20241127T080000
DTEND;TZID=Europe/Helsinki:20241127T170000
DTSTAMP:20260420T102126
CREATED:20240514T085633Z
LAST-MODIFIED:20240514T085633Z
UID:6154-1732694400-1732726800@lottawennakoski.com
SUMMARY:Verdigris
DESCRIPTION:Kotka Concert Hall  –   Kymi Sinfonietta\, cond. József Hárs \n
URL:https://lottawennakoski.com/event/verdigris-20/
END:VEVENT
BEGIN:VEVENT
DTSTART;TZID=Europe/Helsinki:20241129T080000
DTEND;TZID=Europe/Helsinki:20241129T170000
DTSTAMP:20260420T102126
CREATED:20241008T073113Z
LAST-MODIFIED:20241008T073113Z
UID:6245-1732867200-1732899600@lottawennakoski.com
SUMMARY:Ilmakehästä
DESCRIPTION:Senckenberg Naturmuseum\, Frankfurt  –  Joséphine Olech\, flute and Joonas Ahonen\, piano \n
URL:https://lottawennakoski.com/event/ilmakehasta-7/
END:VEVENT
BEGIN:VEVENT
DTSTART;TZID=Europe/Helsinki:20241205T080000
DTEND;TZID=Europe/Helsinki:20241205T170000
DTSTAMP:20260420T102126
CREATED:20241120T124348Z
LAST-MODIFIED:20241120T124348Z
UID:6264-1733385600-1733418000@lottawennakoski.com
SUMMARY:Verdigris
DESCRIPTION:Laurentius-sali\, Lohja  –   Lohja City Orchestra\, cond. Jukka Untamala \n
URL:https://lottawennakoski.com/event/verdigris-26/
END:VEVENT
BEGIN:VEVENT
DTSTART;TZID=Europe/Helsinki:20241205T080000
DTEND;TZID=Europe/Helsinki:20241205T170000
DTSTAMP:20260420T102126
CREATED:20241204T113556Z
LAST-MODIFIED:20241204T113556Z
UID:6269-1733385600-1733418000@lottawennakoski.com
SUMMARY:Mien
DESCRIPTION:Korundi\, Rovaniemi  –   woodwind quintet of the Lapland Chamber Orchestra \n
URL:https://lottawennakoski.com/event/mien-2/
END:VEVENT
BEGIN:VEVENT
DTSTART;TZID=Europe/Helsinki:20241206T080000
DTEND;TZID=Europe/Helsinki:20241206T170000
DTSTAMP:20260420T102126
CREATED:20240619T110348Z
LAST-MODIFIED:20240619T110348Z
UID:6188-1733472000-1733504400@lottawennakoski.com
SUMMARY:Verdigris
DESCRIPTION:Sibelius Hall\, Lahti   –  Lahti Symphony Orchestra\, cond. Pekka Kuusisto \n
URL:https://lottawennakoski.com/event/verdigris-22/
END:VEVENT
BEGIN:VEVENT
DTSTART;TZID=Europe/Helsinki:20241213T080000
DTEND;TZID=Europe/Helsinki:20241213T170000
DTSTAMP:20260420T102126
CREATED:20241209T073529Z
LAST-MODIFIED:20241210T093229Z
UID:6271-1734076800-1734109200@lottawennakoski.com
SUMMARY:Balai
DESCRIPTION:Konzert-Galerie Maison 44\, Basel  –  Damiano Pisanello\, guitar \n
URL:https://lottawennakoski.com/event/balai-5/
END:VEVENT
END:VCALENDAR