BEGIN:VCALENDAR
VERSION:2.0
PRODID:-//Lotta Wennäkoski - ECPv5.1.2//NONSGML v1.0//EN
CALSCALE:GREGORIAN
METHOD:PUBLISH
X-WR-CALNAME:Lotta Wennäkoski
X-ORIGINAL-URL:https://lottawennakoski.com
X-WR-CALDESC:Events for Lotta Wennäkoski
BEGIN:VTIMEZONE
TZID:Europe/Helsinki
BEGIN:DAYLIGHT
TZOFFSETFROM:+0200
TZOFFSETTO:+0300
TZNAME:EEST
DTSTART:20260329T010000
END:DAYLIGHT
BEGIN:STANDARD
TZOFFSETFROM:+0300
TZOFFSETTO:+0200
TZNAME:EET
DTSTART:20261025T010000
END:STANDARD
END:VTIMEZONE
BEGIN:VEVENT
DTSTART;TZID=Europe/Helsinki:20260314T080000
DTEND;TZID=Europe/Helsinki:20260314T170000
DTSTAMP:20260419T154730
CREATED:20260110T134627Z
LAST-MODIFIED:20260110T134627Z
UID:6509-1773475200-1773507600@lottawennakoski.com
SUMMARY:Vorüber\, ach\, vorüber! (from Pige)
DESCRIPTION:DR Koncerthuset\, Copenhagen  –  Danish String Quartet \n
URL:https://lottawennakoski.com/event/voruber-ach-voruber-from-pige-6/
END:VEVENT
END:VCALENDAR