BEGIN:VCALENDAR
VERSION:2.0
PRODID:-//Lotta Wennäkoski - ECPv5.1.2//NONSGML v1.0//EN
CALSCALE:GREGORIAN
METHOD:PUBLISH
X-WR-CALNAME:Lotta Wennäkoski
X-ORIGINAL-URL:https://lottawennakoski.com
X-WR-CALDESC:Events for Lotta Wennäkoski
BEGIN:VTIMEZONE
TZID:Europe/Helsinki
BEGIN:DAYLIGHT
TZOFFSETFROM:+0200
TZOFFSETTO:+0300
TZNAME:EEST
DTSTART:20260329T010000
END:DAYLIGHT
BEGIN:STANDARD
TZOFFSETFROM:+0300
TZOFFSETTO:+0200
TZNAME:EET
DTSTART:20261025T010000
END:STANDARD
END:VTIMEZONE
BEGIN:VEVENT
DTSTART;TZID=Europe/Helsinki:20260412T080000
DTEND;TZID=Europe/Helsinki:20260412T170000
DTSTAMP:20260419T133036
CREATED:20250829T104057Z
LAST-MODIFIED:20250916T082239Z
UID:6425-1775980800-1776013200@lottawennakoski.com
SUMMARY:Vorüber\, ach\, vorüber! (from Pige)
DESCRIPTION:Conrad Prebys Performing Arts Center\, San Diego\, USA  – Danish String Quartet \n
URL:https://lottawennakoski.com/event/voruber-ach-voruber-from-pige-4/
END:VEVENT
END:VCALENDAR