BEGIN:VCALENDAR
VERSION:2.0
PRODID:-//Lotta Wennäkoski - ECPv5.1.2//NONSGML v1.0//EN
CALSCALE:GREGORIAN
METHOD:PUBLISH
X-WR-CALNAME:Lotta Wennäkoski
X-ORIGINAL-URL:https://lottawennakoski.com
X-WR-CALDESC:Events for Lotta Wennäkoski
BEGIN:VTIMEZONE
TZID:Europe/Helsinki
BEGIN:DAYLIGHT
TZOFFSETFROM:+0200
TZOFFSETTO:+0300
TZNAME:EEST
DTSTART:20200329T010000
END:DAYLIGHT
BEGIN:STANDARD
TZOFFSETFROM:+0300
TZOFFSETTO:+0200
TZNAME:EET
DTSTART:20201025T010000
END:STANDARD
END:VTIMEZONE
BEGIN:VEVENT
DTSTART;TZID=Europe/Helsinki:20201218T080000
DTEND;TZID=Europe/Helsinki:20201218T170000
DTSTAMP:20260420T130526
CREATED:20201113T141820Z
LAST-MODIFIED:20201130T152825Z
UID:5422-1608278400-1608310800@lottawennakoski.com
SUMMARY:Verdigris    CANCELLED
DESCRIPTION:Espoon kulttuurikeskus   –  Tapiola Sinfonietta\, cond. Klaus Mäkelä \n
URL:https://lottawennakoski.com/event/verdigris-4/
END:VEVENT
END:VCALENDAR