BEGIN:VCALENDAR
VERSION:2.0
PRODID:-//Lotta Wennäkoski - ECPv5.1.2//NONSGML v1.0//EN
CALSCALE:GREGORIAN
METHOD:PUBLISH
X-WR-CALNAME:Lotta Wennäkoski
X-ORIGINAL-URL:https://lottawennakoski.com
X-WR-CALDESC:Events for Lotta Wennäkoski
BEGIN:VTIMEZONE
TZID:Europe/Helsinki
BEGIN:DAYLIGHT
TZOFFSETFROM:+0200
TZOFFSETTO:+0300
TZNAME:EEST
DTSTART:20240331T010000
END:DAYLIGHT
BEGIN:STANDARD
TZOFFSETFROM:+0300
TZOFFSETTO:+0200
TZNAME:EET
DTSTART:20241027T010000
END:STANDARD
END:VTIMEZONE
BEGIN:VEVENT
DTSTART;TZID=Europe/Helsinki:20241106T080000
DTEND;TZID=Europe/Helsinki:20241106T170000
DTSTAMP:20260419T080246
CREATED:20240514T090317Z
LAST-MODIFIED:20240514T090317Z
UID:6157-1730880000-1730912400@lottawennakoski.com
SUMMARY:Verdigris
DESCRIPTION:Helsinki Music Centre   –    Helsinki Philharmonic Orchestra\, cond. Jukka-Pekka Saraste \n
URL:https://lottawennakoski.com/event/verdigris-21/
END:VEVENT
END:VCALENDAR