BEGIN:VCALENDAR
VERSION:2.0
PRODID:-//Lotta Wennäkoski - ECPv5.1.2//NONSGML v1.0//EN
CALSCALE:GREGORIAN
METHOD:PUBLISH
X-WR-CALNAME:Lotta Wennäkoski
X-ORIGINAL-URL:https://lottawennakoski.com
X-WR-CALDESC:Events for Lotta Wennäkoski
BEGIN:VTIMEZONE
TZID:Europe/Helsinki
BEGIN:DAYLIGHT
TZOFFSETFROM:+0200
TZOFFSETTO:+0300
TZNAME:EEST
DTSTART:20240331T010000
END:DAYLIGHT
BEGIN:STANDARD
TZOFFSETFROM:+0300
TZOFFSETTO:+0200
TZNAME:EET
DTSTART:20241027T010000
END:STANDARD
END:VTIMEZONE
BEGIN:VEVENT
DTSTART;TZID=Europe/Helsinki:20240427T080000
DTEND;TZID=Europe/Helsinki:20240427T170000
DTSTAMP:20260419T010409
CREATED:20231031T082213Z
LAST-MODIFIED:20231031T082457Z
UID:6012-1714204800-1714237200@lottawennakoski.com
SUMMARY:Verdigris
DESCRIPTION:\nThe Bridgewater Hall\, Manchester  –  The BBC Philharmonic Orchestra\, cond. John Storgårds\n\n\n\n\n\n\n\n\n\n\n\n\n
URL:https://lottawennakoski.com/event/verdigris-13/
END:VEVENT
END:VCALENDAR