BEGIN:VCALENDAR
VERSION:2.0
PRODID:-//Lotta Wennäkoski - ECPv5.1.2//NONSGML v1.0//EN
CALSCALE:GREGORIAN
METHOD:PUBLISH
X-WR-CALNAME:Lotta Wennäkoski
X-ORIGINAL-URL:https://lottawennakoski.com
X-WR-CALDESC:Events for Lotta Wennäkoski
BEGIN:VTIMEZONE
TZID:Europe/Helsinki
BEGIN:DAYLIGHT
TZOFFSETFROM:+0200
TZOFFSETTO:+0300
TZNAME:EEST
DTSTART:20240331T010000
END:DAYLIGHT
BEGIN:STANDARD
TZOFFSETFROM:+0300
TZOFFSETTO:+0200
TZNAME:EET
DTSTART:20241027T010000
END:STANDARD
END:VTIMEZONE
BEGIN:VEVENT
DTSTART;TZID=Europe/Helsinki:20240716T080000
DTEND;TZID=Europe/Helsinki:20240716T170000
DTSTAMP:20260420T203419
CREATED:20240228T101540Z
LAST-MODIFIED:20240228T101540Z
UID:6081-1721116800-1721149200@lottawennakoski.com
SUMMARY:Soiva ilo
DESCRIPTION:Kuhmo Chamber Music Festival  –  Anu Komsi\, soprano and Pia Värri\, piano \n
URL:https://lottawennakoski.com/event/soiva-ilo/
END:VEVENT
END:VCALENDAR