BEGIN:VCALENDAR
VERSION:2.0
PRODID:-//Lotta Wennäkoski - ECPv5.1.2//NONSGML v1.0//EN
CALSCALE:GREGORIAN
METHOD:PUBLISH
X-WR-CALNAME:Lotta Wennäkoski
X-ORIGINAL-URL:https://lottawennakoski.com
X-WR-CALDESC:Events for Lotta Wennäkoski
BEGIN:VTIMEZONE
TZID:Europe/Helsinki
BEGIN:DAYLIGHT
TZOFFSETFROM:+0200
TZOFFSETTO:+0300
TZNAME:EEST
DTSTART:20250330T010000
END:DAYLIGHT
BEGIN:STANDARD
TZOFFSETFROM:+0300
TZOFFSETTO:+0200
TZNAME:EET
DTSTART:20251026T010000
END:STANDARD
END:VTIMEZONE
BEGIN:VEVENT
DTSTART;TZID=Europe/Helsinki:20251005T080000
DTEND;TZID=Europe/Helsinki:20251005T170000
DTSTAMP:20260419T215051
CREATED:20250916T082031Z
LAST-MODIFIED:20250916T082045Z
UID:6441-1759651200-1759683600@lottawennakoski.com
SUMMARY:Soiva ilo
DESCRIPTION:Toholammin Kulttuurisali  –  Annami Hylkilä\, soprano and Säde Erkkilä\, piano \n
URL:https://lottawennakoski.com/event/soiva-ilo-2/
END:VEVENT
END:VCALENDAR