BEGIN:VCALENDAR
VERSION:2.0
PRODID:-//Lotta Wennäkoski - ECPv5.1.2//NONSGML v1.0//EN
CALSCALE:GREGORIAN
METHOD:PUBLISH
X-WR-CALNAME:Lotta Wennäkoski
X-ORIGINAL-URL:https://lottawennakoski.com
X-WR-CALDESC:Events for Lotta Wennäkoski
BEGIN:VTIMEZONE
TZID:Europe/Helsinki
BEGIN:DAYLIGHT
TZOFFSETFROM:+0200
TZOFFSETTO:+0300
TZNAME:EEST
DTSTART:20260329T010000
END:DAYLIGHT
BEGIN:STANDARD
TZOFFSETFROM:+0300
TZOFFSETTO:+0200
TZNAME:EET
DTSTART:20261025T010000
END:STANDARD
END:VTIMEZONE
BEGIN:VEVENT
DTSTART;TZID=Europe/Helsinki:20260209T080000
DTEND;TZID=Europe/Helsinki:20260209T170000
DTSTAMP:20260419T160822
CREATED:20250405T072220Z
LAST-MODIFIED:20250405T072303Z
UID:6366-1770624000-1770656400@lottawennakoski.com
SUMMARY:Sic
DESCRIPTION:Konserthuset\, Stockholm  –   Minna Pensola and Antti Tikkanen\, violin \n
URL:https://lottawennakoski.com/event/sic/
END:VEVENT
END:VCALENDAR