BEGIN:VCALENDAR
VERSION:2.0
PRODID:-//Lotta Wennäkoski - ECPv5.1.2//NONSGML v1.0//EN
CALSCALE:GREGORIAN
METHOD:PUBLISH
X-WR-CALNAME:Lotta Wennäkoski
X-ORIGINAL-URL:https://lottawennakoski.com
X-WR-CALDESC:Events for Lotta Wennäkoski
BEGIN:VTIMEZONE
TZID:Europe/Helsinki
BEGIN:DAYLIGHT
TZOFFSETFROM:+0200
TZOFFSETTO:+0300
TZNAME:EEST
DTSTART:20260329T010000
END:DAYLIGHT
BEGIN:STANDARD
TZOFFSETFROM:+0300
TZOFFSETTO:+0200
TZNAME:EET
DTSTART:20261025T010000
END:STANDARD
END:VTIMEZONE
BEGIN:VEVENT
DTSTART;TZID=Europe/Helsinki:20260528T080000
DTEND;TZID=Europe/Helsinki:20260528T170000
DTSTAMP:20260419T083739
CREATED:20260413T091937Z
LAST-MODIFIED:20260413T091937Z
UID:6558-1779955200-1779987600@lottawennakoski.com
SUMMARY:Sic
DESCRIPTION:Balder Hall\, Helsinki  –   Minna Pensola and Antti Tikkanen\, violins \n
URL:https://lottawennakoski.com/event/sic-4/
END:VEVENT
END:VCALENDAR