BEGIN:VCALENDAR
VERSION:2.0
PRODID:-//Lotta Wennäkoski - ECPv5.1.2//NONSGML v1.0//EN
CALSCALE:GREGORIAN
METHOD:PUBLISH
X-WR-CALNAME:Lotta Wennäkoski
X-ORIGINAL-URL:https://lottawennakoski.com
X-WR-CALDESC:Events for Lotta Wennäkoski
BEGIN:VTIMEZONE
TZID:Europe/Helsinki
BEGIN:DAYLIGHT
TZOFFSETFROM:+0200
TZOFFSETTO:+0300
TZNAME:EEST
DTSTART:20260329T010000
END:DAYLIGHT
BEGIN:STANDARD
TZOFFSETFROM:+0300
TZOFFSETTO:+0200
TZNAME:EET
DTSTART:20261025T010000
END:STANDARD
END:VTIMEZONE
BEGIN:VEVENT
DTSTART;TZID=Europe/Helsinki:20260118T080000
DTEND;TZID=Europe/Helsinki:20260118T170000
DTSTAMP:20260419T173930
CREATED:20250527T062009Z
LAST-MODIFIED:20250527T062009Z
UID:6407-1768723200-1768755600@lottawennakoski.com
SUMMARY:Päärme
DESCRIPTION:Helsinki Music Centre\, Paavo Hall –  Maria Puusaari\, violin\, Eeva Rysä\, violoncello and Sonja Fräki\, piano \n
URL:https://lottawennakoski.com/event/paarme-18/
END:VEVENT
END:VCALENDAR