BEGIN:VCALENDAR
VERSION:2.0
PRODID:-//Lotta Wennäkoski - ECPv5.1.2//NONSGML v1.0//EN
CALSCALE:GREGORIAN
METHOD:PUBLISH
X-WR-CALNAME:Lotta Wennäkoski
X-ORIGINAL-URL:https://lottawennakoski.com
X-WR-CALDESC:Events for Lotta Wennäkoski
BEGIN:VTIMEZONE
TZID:Europe/Helsinki
BEGIN:DAYLIGHT
TZOFFSETFROM:+0200
TZOFFSETTO:+0300
TZNAME:EEST
DTSTART:20230326T010000
END:DAYLIGHT
BEGIN:STANDARD
TZOFFSETFROM:+0300
TZOFFSETTO:+0200
TZNAME:EET
DTSTART:20231029T010000
END:STANDARD
END:VTIMEZONE
BEGIN:VEVENT
DTSTART;TZID=Europe/Helsinki:20231103T080000
DTEND;TZID=Europe/Helsinki:20231103T170000
DTSTAMP:20260420T091017
CREATED:20230727T162044Z
LAST-MODIFIED:20230727T162044Z
UID:5951-1698998400-1699030800@lottawennakoski.com
SUMMARY:Om fotspår och ljus (Helsinki Variations)
DESCRIPTION:Usher Hall\, Edinburgh  –  The Royal Scottish National Orchestra\, cond. Thomas Søndergård \n
URL:https://lottawennakoski.com/event/om-fotspar-och-ljus-helsinki-variations-6/
END:VEVENT
END:VCALENDAR