BEGIN:VCALENDAR
VERSION:2.0
PRODID:-//Lotta Wennäkoski - ECPv5.1.2//NONSGML v1.0//EN
CALSCALE:GREGORIAN
METHOD:PUBLISH
X-WR-CALNAME:Lotta Wennäkoski
X-ORIGINAL-URL:https://lottawennakoski.com
X-WR-CALDESC:Events for Lotta Wennäkoski
BEGIN:VTIMEZONE
TZID:Europe/Helsinki
BEGIN:DAYLIGHT
TZOFFSETFROM:+0200
TZOFFSETTO:+0300
TZNAME:EEST
DTSTART:20240331T010000
END:DAYLIGHT
BEGIN:STANDARD
TZOFFSETFROM:+0300
TZOFFSETTO:+0200
TZNAME:EET
DTSTART:20241027T010000
END:STANDARD
END:VTIMEZONE
BEGIN:VEVENT
DTSTART;TZID=Europe/Helsinki:20240808T080000
DTEND;TZID=Europe/Helsinki:20240808T170000
DTSTAMP:20260418T194541
CREATED:20240426T141121Z
LAST-MODIFIED:20240619T112027Z
UID:6143-1723104000-1723136400@lottawennakoski.com
SUMMARY:Mellan natt och regn  (world premiere)
DESCRIPTION:Katrina Kammarmusik\, Åland  –   Petri Kumela\, guitar and Zilliacus Quartet \n
URL:https://lottawennakoski.com/event/mellan-natt-och-regn-world-premiere/
END:VEVENT
END:VCALENDAR