BEGIN:VCALENDAR
VERSION:2.0
PRODID:-//Lotta Wennäkoski - ECPv5.1.2//NONSGML v1.0//EN
CALSCALE:GREGORIAN
METHOD:PUBLISH
X-WR-CALNAME:Lotta Wennäkoski
X-ORIGINAL-URL:https://lottawennakoski.com
X-WR-CALDESC:Events for Lotta Wennäkoski
BEGIN:VTIMEZONE
TZID:Europe/Helsinki
BEGIN:DAYLIGHT
TZOFFSETFROM:+0200
TZOFFSETTO:+0300
TZNAME:EEST
DTSTART:20240331T010000
END:DAYLIGHT
BEGIN:STANDARD
TZOFFSETFROM:+0300
TZOFFSETTO:+0200
TZNAME:EET
DTSTART:20241027T010000
END:STANDARD
END:VTIMEZONE
BEGIN:VEVENT
DTSTART;TZID=Europe/Helsinki:20240809T080000
DTEND;TZID=Europe/Helsinki:20240809T170000
DTSTAMP:20260417T222441
CREATED:20240619T111425Z
LAST-MODIFIED:20240619T111440Z
UID:6196-1723190400-1723222800@lottawennakoski.com
SUMMARY:Ír
DESCRIPTION:Katrina Kammarmusik\, Åland   –  Emil Holmströn\, piano \n
URL:https://lottawennakoski.com/event/ir/
END:VEVENT
END:VCALENDAR