BEGIN:VCALENDAR
VERSION:2.0
PRODID:-//Lotta Wennäkoski - ECPv5.1.2//NONSGML v1.0//EN
CALSCALE:GREGORIAN
METHOD:PUBLISH
X-WR-CALNAME:Lotta Wennäkoski
X-ORIGINAL-URL:https://lottawennakoski.com
X-WR-CALDESC:Events for Lotta Wennäkoski
BEGIN:VTIMEZONE
TZID:Europe/Helsinki
BEGIN:DAYLIGHT
TZOFFSETFROM:+0200
TZOFFSETTO:+0300
TZNAME:EEST
DTSTART:20260329T010000
END:DAYLIGHT
BEGIN:STANDARD
TZOFFSETFROM:+0300
TZOFFSETTO:+0200
TZNAME:EET
DTSTART:20261025T010000
END:STANDARD
END:VTIMEZONE
BEGIN:VEVENT
DTSTART;TZID=Europe/Helsinki:20260418T080000
DTEND;TZID=Europe/Helsinki:20260418T170000
DTSTAMP:20260418T190127
CREATED:20251230T153110Z
LAST-MODIFIED:20251230T153110Z
UID:6501-1776499200-1776531600@lottawennakoski.com
SUMMARY:Het waait
DESCRIPTION:Helsinki Music Centre – Helsinki University Symphony Orchestra\, cond. Aku Sorensen \n
URL:https://lottawennakoski.com/event/het-waait/
END:VEVENT
END:VCALENDAR