BEGIN:VCALENDAR
VERSION:2.0
PRODID:-//Lotta Wennäkoski - ECPv5.1.2//NONSGML v1.0//EN
CALSCALE:GREGORIAN
METHOD:PUBLISH
X-WR-CALNAME:Lotta Wennäkoski
X-ORIGINAL-URL:https://lottawennakoski.com
X-WR-CALDESC:Events for Lotta Wennäkoski
BEGIN:VTIMEZONE
TZID:Europe/Helsinki
BEGIN:DAYLIGHT
TZOFFSETFROM:+0200
TZOFFSETTO:+0300
TZNAME:EEST
DTSTART:20220327T010000
END:DAYLIGHT
BEGIN:STANDARD
TZOFFSETFROM:+0300
TZOFFSETTO:+0200
TZNAME:EET
DTSTART:20221030T010000
END:STANDARD
END:VTIMEZONE
BEGIN:VEVENT
DTSTART;TZID=Europe/Helsinki:20220331T080000
DTEND;TZID=Europe/Helsinki:20220331T170000
DTSTAMP:20260420T091007
CREATED:20220306T102040Z
LAST-MODIFIED:20220306T102040Z
UID:5628-1648713600-1648746000@lottawennakoski.com
SUMMARY:Hava
DESCRIPTION:Laurentius Hall\, Lohja  –  Lohja City Orchestra\, cond. Eero Lehtimäki \n
URL:https://lottawennakoski.com/event/hava-13/
END:VEVENT
END:VCALENDAR