BEGIN:VCALENDAR
VERSION:2.0
PRODID:-//Lotta Wennäkoski - ECPv5.1.2//NONSGML v1.0//EN
CALSCALE:GREGORIAN
METHOD:PUBLISH
X-WR-CALNAME:Lotta Wennäkoski
X-ORIGINAL-URL:https://lottawennakoski.com
X-WR-CALDESC:Events for Lotta Wennäkoski
BEGIN:VTIMEZONE
TZID:Europe/Helsinki
BEGIN:DAYLIGHT
TZOFFSETFROM:+0200
TZOFFSETTO:+0300
TZNAME:EEST
DTSTART:20200329T010000
END:DAYLIGHT
BEGIN:STANDARD
TZOFFSETFROM:+0300
TZOFFSETTO:+0200
TZNAME:EET
DTSTART:20201025T010000
END:STANDARD
END:VTIMEZONE
BEGIN:VEVENT
DTSTART;TZID=Europe/Helsinki:20200905T080000
DTEND;TZID=Europe/Helsinki:20200905T170000
DTSTAMP:20260418T040111
CREATED:20200818T064035Z
LAST-MODIFIED:20200818T064035Z
UID:5241-1599292800-1599325200@lottawennakoski.com
SUMMARY:Glimt\, skymt
DESCRIPTION:Lidköping\, Sweden  –   flute quartet 40f \n
URL:https://lottawennakoski.com/event/glimt-skymt-3/
END:VEVENT
END:VCALENDAR