BEGIN:VCALENDAR
VERSION:2.0
PRODID:-//Lotta Wennäkoski - ECPv5.1.2//NONSGML v1.0//EN
CALSCALE:GREGORIAN
METHOD:PUBLISH
X-WR-CALNAME:Lotta Wennäkoski
X-ORIGINAL-URL:https://lottawennakoski.com
X-WR-CALDESC:Events for Lotta Wennäkoski
BEGIN:VTIMEZONE
TZID:Europe/Helsinki
BEGIN:DAYLIGHT
TZOFFSETFROM:+0200
TZOFFSETTO:+0300
TZNAME:EEST
DTSTART:20260329T010000
END:DAYLIGHT
BEGIN:STANDARD
TZOFFSETFROM:+0300
TZOFFSETTO:+0200
TZNAME:EET
DTSTART:20261025T010000
END:STANDARD
END:VTIMEZONE
BEGIN:VEVENT
DTSTART;TZID=Europe/Helsinki:20260116T080000
DTEND;TZID=Europe/Helsinki:20260116T170000
DTSTAMP:20260418T190526
CREATED:20250405T071830Z
LAST-MODIFIED:20250405T071830Z
UID:6362-1768550400-1768582800@lottawennakoski.com
SUMMARY:Flounce
DESCRIPTION:Pittsburgh\, USA   –  Pittsburgh Symphony Orchestra\, cond. Dima Slobodeniouk \n
URL:https://lottawennakoski.com/event/flounce-30/
END:VEVENT
END:VCALENDAR